BEGIN:VCALENDAR
VERSION:2.0
PRODID:-//Plone.org//NONSGML plone.app.event//EN
X-WR-TIMEZONE:Europe/Madrid
BEGIN:VEVENT
SUMMARY:Acte de presentació de les Activitats\, Cursos i Tallers 2023-202
 4 per a la gent gran
DTSTART;TZID=Europe/Madrid;VALUE=DATE-TIME:20230913T173000
DTEND;TZID=Europe/Madrid;VALUE=DATE-TIME:20230913T183000
DTSTAMP;VALUE=DATE-TIME:20260421T155728Z
UID:d860e1333fbf4d248d93d4b7e78882d2@www.molletvalles.cat
CATEGORIES:Gent Gran
CREATED;VALUE=DATE-TIME:20230906T130041Z
LAST-MODIFIED;VALUE=DATE-TIME:20230906T131212Z
URL:https://www.molletvalles.cat/ca/actualitat/agenda/acte-de-presentacio-
 de-les-activitats-cursos-i-tallers-2023-2024-per-a-la-gent-gran
END:VEVENT
BEGIN:VTIMEZONE
TZID:Europe/Madrid
X-LIC-LOCATION:Europe/Madrid
BEGIN:DAYLIGHT
DTSTART;VALUE=DATE-TIME:20230326T030000
TZNAME:CEST
TZOFFSETFROM:+0100
TZOFFSETTO:+0200
END:DAYLIGHT
END:VTIMEZONE
END:VCALENDAR
