BEGIN:VCALENDAR
VERSION:2.0
PRODID:-//Plone.org//NONSGML plone.app.event//EN
X-WR-TIMEZONE:Europe/Madrid
BEGIN:VEVENT
SUMMARY:Acte de reconeixement a les persones de Mollet que fan 100 anys du
 rant el 2023
DTSTART;TZID=Europe/Madrid;VALUE=DATE-TIME:20230517T173000
DTEND;TZID=Europe/Madrid;VALUE=DATE-TIME:20230517T183000
DTSTAMP;VALUE=DATE-TIME:20260421T155919Z
UID:4bcbdd79f2504713a85fc07424c5539d@www.molletvalles.cat
CATEGORIES:Gent Gran
CREATED;VALUE=DATE-TIME:20230504T080536Z
DESCRIPTION:PER MOLTS ANYS 2023
LAST-MODIFIED;VALUE=DATE-TIME:20230504T113424Z
LOCATION:Mercat Vell
URL:https://www.molletvalles.cat/ca/actualitat/agenda/acte-de-reconeixemen
 t-a-les-persones-de-mollet-que-fan-100-anys-durant-el-2023
END:VEVENT
BEGIN:VTIMEZONE
TZID:Europe/Madrid
X-LIC-LOCATION:Europe/Madrid
BEGIN:DAYLIGHT
DTSTART;VALUE=DATE-TIME:20230326T030000
TZNAME:CEST
TZOFFSETFROM:+0100
TZOFFSETTO:+0200
END:DAYLIGHT
END:VTIMEZONE
END:VCALENDAR
