BEGIN:VCALENDAR
VERSION:2.0
PRODID:-//Plone.org//NONSGML plone.app.event//EN
X-WR-TIMEZONE:Europe/Madrid
BEGIN:VEVENT
SUMMARY:Acte de reconeixement a les persones de Mollet que fan 100 anys du
 rant el 2024
DTSTART;TZID=Europe/Madrid;VALUE=DATE-TIME:20240515T173000
DTEND;TZID=Europe/Madrid;VALUE=DATE-TIME:20240515T183000
DTSTAMP;VALUE=DATE-TIME:20260421T155918Z
UID:73de47673cb346d58b97eefb449f7083@www.molletvalles.cat
CATEGORIES:Acte institucional
CREATED;VALUE=DATE-TIME:20240326T114052Z
DESCRIPTION:PER MOLTS ANYS 2024
LAST-MODIFIED;VALUE=DATE-TIME:20240326T124944Z
URL:https://www.molletvalles.cat/ca/actualitat/agenda/acte-de-reconeixemen
 t-a-les-persones-de-mollet-que-fan-100-anys-durant-el-2024
END:VEVENT
BEGIN:VTIMEZONE
TZID:Europe/Madrid
X-LIC-LOCATION:Europe/Madrid
BEGIN:DAYLIGHT
DTSTART;VALUE=DATE-TIME:20240331T030000
TZNAME:CEST
TZOFFSETFROM:+0100
TZOFFSETTO:+0200
END:DAYLIGHT
END:VTIMEZONE
END:VCALENDAR
