BEGIN:VCALENDAR
VERSION:2.0
PRODID:-//Plone.org//NONSGML plone.app.event//EN
X-WR-TIMEZONE:Europe/Madrid
BEGIN:VEVENT
SUMMARY:Acte de reconeixement a les persones de Mollet que fan 100 anys du
 rant el 2025
DTSTART;TZID=Europe/Madrid;VALUE=DATE-TIME:20250514T173000
DTEND;TZID=Europe/Madrid;VALUE=DATE-TIME:20250514T183000
DTSTAMP;VALUE=DATE-TIME:20260421T155918Z
UID:296d375f38af46519f39b72d26d1292c@www.molletvalles.cat
CATEGORIES:Actes diversos
CREATED;VALUE=DATE-TIME:20250505T091951Z
DESCRIPTION:PER MOLTS ANYS!
LAST-MODIFIED;VALUE=DATE-TIME:20250505T114957Z
URL:https://www.molletvalles.cat/ca/actualitat/agenda/acte-de-reconeixemen
 t-a-les-persones-de-mollet-que-fan-100-anys-durant-el-2025
END:VEVENT
BEGIN:VTIMEZONE
TZID:Europe/Madrid
X-LIC-LOCATION:Europe/Madrid
BEGIN:DAYLIGHT
DTSTART;VALUE=DATE-TIME:20250330T030000
TZNAME:CEST
TZOFFSETFROM:+0100
TZOFFSETTO:+0200
END:DAYLIGHT
END:VTIMEZONE
END:VCALENDAR
