BEGIN:VCALENDAR
VERSION:2.0
PRODID:-//Plone.org//NONSGML plone.app.event//EN
X-WR-TIMEZONE:Europe/Madrid
BEGIN:VEVENT
SUMMARY:Activitat de Txikung amb motiu del Dia Mundial de la Fibromiàlgia
  i Síndrome de la Fatiga Crònica
DTSTART;TZID=Europe/Madrid;VALUE=DATE-TIME:20240511T120000
DTEND;TZID=Europe/Madrid;VALUE=DATE-TIME:20240511T130000
DTSTAMP;VALUE=DATE-TIME:20260419T162449Z
UID:a390a55fc4e64ae0b76dae81bbda3998@www.molletvalles.cat
CATEGORIES:Actes diversos
CREATED;VALUE=DATE-TIME:20240508T082111Z
LAST-MODIFIED;VALUE=DATE-TIME:20240510T062630Z
LOCATION:Parc de Les Pruneres
URL:https://www.molletvalles.cat/ca/actualitat/agenda/activitat-de-txikung
 -amb-motiu-del-dia-mundial-de-la-fibromialgia-i-sindrome-de-la-fatiga-cron
 ica
END:VEVENT
BEGIN:VTIMEZONE
TZID:Europe/Madrid
X-LIC-LOCATION:Europe/Madrid
BEGIN:DAYLIGHT
DTSTART;VALUE=DATE-TIME:20240331T030000
TZNAME:CEST
TZOFFSETFROM:+0100
TZOFFSETTO:+0200
END:DAYLIGHT
END:VTIMEZONE
END:VCALENDAR
