BEGIN:VCALENDAR
VERSION:2.0
PRODID:-//Plone.org//NONSGML plone.app.event//EN
X-WR-TIMEZONE:Europe/Madrid
BEGIN:VEVENT
SUMMARY:Activitats de la Llibreria L'Illa
DTSTART;VALUE=DATE:20260423
DTEND;VALUE=DATE:20260424
DTSTAMP;VALUE=DATE-TIME:20260421T031958Z
UID:0bc3f58ab21f44f4a2d2c1df4560550b@www.molletvalles.cat
CATEGORIES:Actes diversos
CREATED;VALUE=DATE-TIME:20260420T122308Z
DESCRIPTION:SANT JORDI 2026
LAST-MODIFIED;VALUE=DATE-TIME:20260420T122935Z
LOCATION:Llibreria L'Illa
URL:https://www.molletvalles.cat/ca/actualitat/agenda/activitats-de-la-lli
 breria-lilla
END:VEVENT
END:VCALENDAR
