BEGIN:VCALENDAR
VERSION:2.0
PRODID:-//Plone.org//NONSGML plone.app.event//EN
X-WR-TIMEZONE:Europe/Madrid
BEGIN:VEVENT
SUMMARY:ACTIVITATS MUSICALS \, PEDAGÒGIQUES I COM A CLOENDA  CONCERT DE P
 IANO
DTSTART;VALUE=DATE:20251002
DTEND;VALUE=DATE:20251003
DTSTAMP;VALUE=DATE-TIME:20260421T140525Z
UID:f0a64cf7033144d48079eaa3bbe5eb31@www.molletvalles.cat
CATEGORIES:Música,Turisme
CREATED;VALUE=DATE-TIME:20250924T101939Z
DESCRIPTION:SONA MOLLET 2025
LAST-MODIFIED;VALUE=DATE-TIME:20251001T063143Z
LOCATION:Plaça Prat de la Riba
URL:https://www.molletvalles.cat/ca/actualitat/agenda/activitats-musicals-
 i-pedagogiques-i-concert-de-piano
END:VEVENT
END:VCALENDAR
