BEGIN:VCALENDAR
VERSION:2.0
PRODID:-//Plone.org//NONSGML plone.app.event//EN
X-WR-TIMEZONE:Europe/Madrid
BEGIN:VEVENT
SUMMARY:Actuació Castellera amb Castellers de Mollet del Vallès\, Esperx
 ats de l'Estany i  Castellers de Caldes de Montbui
DTSTART;TZID=Europe/Madrid;VALUE=DATE-TIME:20230917T120000
DTEND;TZID=Europe/Madrid;VALUE=DATE-TIME:20230917T130000
DTSTAMP;VALUE=DATE-TIME:20260425T121738Z
UID:587f7cf2ec0242ad84a36e8f30137698@www.molletvalles.cat
CATEGORIES:Fires
CREATED;VALUE=DATE-TIME:20230908T113106Z
LAST-MODIFIED;VALUE=DATE-TIME:20230908T113345Z
LOCATION:Plaça de l'Artesania
URL:https://www.molletvalles.cat/ca/actualitat/agenda/actuacio-castellera-
 amb-castellers-de-mollet-del-valles-esperxats-de-lestany-i-castellers-de-c
 aldes-de-montbui
END:VEVENT
BEGIN:VTIMEZONE
TZID:Europe/Madrid
X-LIC-LOCATION:Europe/Madrid
BEGIN:DAYLIGHT
DTSTART;VALUE=DATE-TIME:20230326T030000
TZNAME:CEST
TZOFFSETFROM:+0100
TZOFFSETTO:+0200
END:DAYLIGHT
END:VTIMEZONE
END:VCALENDAR
