BEGIN:VCALENDAR
VERSION:2.0
PRODID:-//Plone.org//NONSGML plone.app.event//EN
X-WR-TIMEZONE:Europe/Madrid
BEGIN:VEVENT
SUMMARY:Actuació d'alumnes de l'Escola Municipal de Música i Dansa
DTSTART;TZID=Europe/Madrid;VALUE=DATE-TIME:20240425T180000
DTEND;TZID=Europe/Madrid;VALUE=DATE-TIME:20240425T190000
DTSTAMP;VALUE=DATE-TIME:20260419T234011Z
UID:295db8f6c730426aa7109503a7fc54fb@www.molletvalles.cat
CATEGORIES:Arts escèniques
CREATED;VALUE=DATE-TIME:20240423T113615Z
DESCRIPTION:DIA INTERNACIONAL DE LA DANSA
LAST-MODIFIED;VALUE=DATE-TIME:20240423T113706Z
LOCATION:Parc de les Pruneres
URL:https://www.molletvalles.cat/ca/actualitat/agenda/actuacio-dalumnes-de
 -lescola-municipal-de-musica-i-dansa
END:VEVENT
BEGIN:VTIMEZONE
TZID:Europe/Madrid
X-LIC-LOCATION:Europe/Madrid
BEGIN:DAYLIGHT
DTSTART;VALUE=DATE-TIME:20240331T030000
TZNAME:CEST
TZOFFSETFROM:+0100
TZOFFSETTO:+0200
END:DAYLIGHT
END:VTIMEZONE
END:VCALENDAR
