BEGIN:VCALENDAR
VERSION:2.0
PRODID:-//Plone.org//NONSGML plone.app.event//EN
X-WR-TIMEZONE:Europe/Madrid
BEGIN:VEVENT
SUMMARY:XXXII Diada Castellera: Actuació de Vigilia amb els  Castellers d
 e Mollet\, Manyacs de Parets\, Castellers del Baix Montseny i Castellers d
 e Montcada i Reixac
DTSTART;TZID=Europe/Madrid;VALUE=DATE-TIME:20241026T190000
DTEND;TZID=Europe/Madrid;VALUE=DATE-TIME:20241026T200000
DTSTAMP;VALUE=DATE-TIME:20260419T162306Z
UID:c8a878c220ad405385728445279ff7a0@www.molletvalles.cat
CATEGORIES:Festes populars
CREATED;VALUE=DATE-TIME:20241014T102802Z
LAST-MODIFIED;VALUE=DATE-TIME:20241016T110620Z
LOCATION:Plaça Prat de la Riba
URL:https://www.molletvalles.cat/ca/actualitat/agenda/actuacio-de-vigilia-
 previa-a-la-diada-castellera-castellers-de-mollet-manyacs-de-parets-castel
 lers-dek-baix-montseny-i-castellers-de-montcada-i-reixac
END:VEVENT
BEGIN:VTIMEZONE
TZID:Europe/Madrid
X-LIC-LOCATION:Europe/Madrid
BEGIN:DAYLIGHT
DTSTART;VALUE=DATE-TIME:20240331T030000
TZNAME:CEST
TZOFFSETFROM:+0100
TZOFFSETTO:+0200
END:DAYLIGHT
END:VTIMEZONE
END:VCALENDAR
