BEGIN:VCALENDAR
VERSION:2.0
PRODID:-//Plone.org//NONSGML plone.app.event//EN
X-WR-TIMEZONE:Europe/Madrid
BEGIN:VEVENT
SUMMARY:Amics del Museu Abelló: Sortida al Museu Nacional d'Art de Catalu
 nya
DTSTART;TZID=Europe/Madrid;VALUE=DATE-TIME:20250411T160000
DTEND;TZID=Europe/Madrid;VALUE=DATE-TIME:20250411T170000
DTSTAMP;VALUE=DATE-TIME:20260425T125339Z
UID:6fbaf459fe524c178fea2482856c0b3f@www.molletvalles.cat
CATEGORIES:Exposicions
CREATED;VALUE=DATE-TIME:20250404T085854Z
LAST-MODIFIED;VALUE=DATE-TIME:20250409T105008Z
URL:https://www.molletvalles.cat/ca/actualitat/agenda/amics-del-museu-abel
 lo-sortida-al-museu-nacional-dart-de-catalunya
END:VEVENT
BEGIN:VTIMEZONE
TZID:Europe/Madrid
X-LIC-LOCATION:Europe/Madrid
BEGIN:DAYLIGHT
DTSTART;VALUE=DATE-TIME:20250330T030000
TZNAME:CEST
TZOFFSETFROM:+0100
TZOFFSETTO:+0200
END:DAYLIGHT
END:VTIMEZONE
END:VCALENDAR
