BEGIN:VCALENDAR
VERSION:2.0
PRODID:-//Plone.org//NONSGML plone.app.event//EN
X-WR-TIMEZONE:Europe/Madrid
BEGIN:VEVENT
SUMMARY:Animació "aquàtica" infantil amb música i jocs\, amb l'aigua de
  l'arc de les Pruneres
DTSTART;TZID=Europe/Madrid;VALUE=DATE-TIME:20230819T113000
DTEND;TZID=Europe/Madrid;VALUE=DATE-TIME:20230819T123000
DTSTAMP;VALUE=DATE-TIME:20260421T160418Z
UID:5f0b4a538447405088e40fe710cfdfed@www.molletvalles.cat
CATEGORIES:Infantil
CREATED;VALUE=DATE-TIME:20230726T072025Z
DESCRIPTION:FESTA MAJOR 2023
LAST-MODIFIED;VALUE=DATE-TIME:20230803T070755Z
LOCATION:Parc de Les Pruneres
URL:https://www.molletvalles.cat/ca/actualitat/agenda/animacio-aquatica-in
 fantil-amb-musica-i-jocs-amb-laigua-de-larc-de-les-pruneres-1
END:VEVENT
BEGIN:VTIMEZONE
TZID:Europe/Madrid
X-LIC-LOCATION:Europe/Madrid
BEGIN:DAYLIGHT
DTSTART;VALUE=DATE-TIME:20230326T030000
TZNAME:CEST
TZOFFSETFROM:+0100
TZOFFSETTO:+0200
END:DAYLIGHT
END:VTIMEZONE
END:VCALENDAR
