BEGIN:VCALENDAR
VERSION:2.0
PRODID:-//Plone.org//NONSGML plone.app.event//EN
X-WR-TIMEZONE:Europe/Madrid
BEGIN:VEVENT
SUMMARY:Animació infantil : Balambambú Remullat - Cia. Pentina el Gat\, 
 amb funcionament de l'arc d'aigua
DTSTART;TZID=Europe/Madrid;VALUE=DATE-TIME:20240819T120000
DTEND;TZID=Europe/Madrid;VALUE=DATE-TIME:20240819T130000
DTSTAMP;VALUE=DATE-TIME:20260425T144250Z
UID:92df4995a20f461a901a67b7d73e543c@www.molletvalles.cat
CATEGORIES:Infantil
CREATED;VALUE=DATE-TIME:20240729T111729Z
DESCRIPTION:FESTA MAJOR 2024
LAST-MODIFIED;VALUE=DATE-TIME:20240729T120357Z
LOCATION:Parc de Les Pruneres
URL:https://www.molletvalles.cat/ca/actualitat/agenda/animacio-infantil-ba
 lambambu-remullat-cia-pentina-el-gat-amb-funcionament-de-larc-daigua
END:VEVENT
BEGIN:VTIMEZONE
TZID:Europe/Madrid
X-LIC-LOCATION:Europe/Madrid
BEGIN:DAYLIGHT
DTSTART;VALUE=DATE-TIME:20240331T030000
TZNAME:CEST
TZOFFSETFROM:+0100
TZOFFSETTO:+0200
END:DAYLIGHT
END:VTIMEZONE
END:VCALENDAR
