BEGIN:VCALENDAR
VERSION:2.0
PRODID:-//Plone.org//NONSGML plone.app.event//EN
X-WR-TIMEZONE:Europe/Madrid
BEGIN:VEVENT
SUMMARY:APLEC DE MALABARS DE FOC
DTSTART;VALUE=DATE:20260509
DTEND;VALUE=DATE:20260510
DTSTAMP;VALUE=DATE-TIME:20260423T155417Z
UID:4e2e25bd84bc437da0c34262ef0201e6@www.molletvalles.cat
CATEGORIES:Festes populars
CREATED;VALUE=DATE-TIME:20260423T095109Z
LAST-MODIFIED;VALUE=DATE-TIME:20260423T100442Z
LOCATION:Parc de Les Pruneres
URL:https://www.molletvalles.cat/ca/actualitat/agenda/aplec-de-malabars-de
 -foc-2
END:VEVENT
END:VCALENDAR
