BEGIN:VCALENDAR
VERSION:2.0
PRODID:-//Plone.org//NONSGML plone.app.event//EN
X-WR-TIMEZONE:Europe/Madrid
BEGIN:VEVENT
SUMMARY:XXXII Diada Castellera: Assaig especial "camises molones" dels  Ca
 stellers de Mollet
DTSTART;TZID=Europe/Madrid;VALUE=DATE-TIME:20241024T200000
DTEND;TZID=Europe/Madrid;VALUE=DATE-TIME:20241024T210000
DTSTAMP;VALUE=DATE-TIME:20260421T173736Z
UID:32eea03fc6b24226ab98c270c6c90dfd@www.molletvalles.cat
CATEGORIES:Festes populars
CREATED;VALUE=DATE-TIME:20241014T092236Z
LAST-MODIFIED;VALUE=DATE-TIME:20241016T110017Z
URL:https://www.molletvalles.cat/ca/actualitat/agenda/assaig-especial-cami
 ses-molones-dels-castellers-de-mollet
END:VEVENT
BEGIN:VTIMEZONE
TZID:Europe/Madrid
X-LIC-LOCATION:Europe/Madrid
BEGIN:DAYLIGHT
DTSTART;VALUE=DATE-TIME:20240331T030000
TZNAME:CEST
TZOFFSETFROM:+0100
TZOFFSETTO:+0200
END:DAYLIGHT
END:VTIMEZONE
END:VCALENDAR
