BEGIN:VCALENDAR
VERSION:2.0
PRODID:-//Plone.org//NONSGML plone.app.event//EN
X-WR-TIMEZONE:Europe/Madrid
BEGIN:VEVENT
SUMMARY:Associació del concurs internacional de música Maria Canals. Rec
 ital de cloenda a quatre mans: Irene Tineo i Roger Vilarnau
DTSTART;VALUE=DATE:20241002
DTEND;VALUE=DATE:20241003
DTSTAMP;VALUE=DATE-TIME:20260419T162528Z
UID:2ce7f547d2ef4b4c95bd8934be8ab213@www.molletvalles.cat
CATEGORIES:Música
CREATED;VALUE=DATE-TIME:20240919T122240Z
DESCRIPTION:SONA MOLLET 2024 -MEMORIAL ANNA VILLAESCUSA REBULL-
LAST-MODIFIED;VALUE=DATE-TIME:20240920T071043Z
LOCATION:Plaça Catalunya
URL:https://www.molletvalles.cat/ca/actualitat/agenda/associacio-del-concu
 rs-internacional-de-musica-maria-canals-recital-de-cloenda-a-quatre-mans-i
 rene-tineo-i-roger-vilarnau
END:VEVENT
END:VCALENDAR
