BEGIN:VCALENDAR
VERSION:2.0
PRODID:-//Plone.org//NONSGML plone.app.event//EN
X-WR-TIMEZONE:Europe/Madrid
BEGIN:VEVENT
SUMMARY:Ball de la gent gran
DTSTART;TZID=Europe/Madrid;VALUE=DATE-TIME:20250427T173000
DTEND;TZID=Europe/Madrid;VALUE=DATE-TIME:20250427T183000
DTSTAMP;VALUE=DATE-TIME:20260423T123011Z
UID:202ddf9585204a79ad095e9f5c89a9ee@www.molletvalles.cat
CATEGORIES:Ball
CREATED;VALUE=DATE-TIME:20241227T104403Z
LAST-MODIFIED;VALUE=DATE-TIME:20250318T092935Z
URL:https://www.molletvalles.cat/ca/actualitat/agenda/ball-de-la-gent-gran
 -1735296243.6397376
END:VEVENT
BEGIN:VTIMEZONE
TZID:Europe/Madrid
X-LIC-LOCATION:Europe/Madrid
BEGIN:DAYLIGHT
DTSTART;VALUE=DATE-TIME:20250330T030000
TZNAME:CEST
TZOFFSETFROM:+0100
TZOFFSETTO:+0200
END:DAYLIGHT
END:VTIMEZONE
END:VCALENDAR
