BEGIN:VCALENDAR
VERSION:2.0
PRODID:-//Plone.org//NONSGML plone.app.event//EN
X-WR-TIMEZONE:Europe/Madrid
BEGIN:VEVENT
SUMMARY:Ball de la gent gran
DTSTART;TZID=Europe/Madrid;VALUE=DATE-TIME:20240929T173000
DTEND;TZID=Europe/Madrid;VALUE=DATE-TIME:20240929T183000
DTSTAMP;VALUE=DATE-TIME:20260423T135735Z
UID:1429865bc3904797979f7ddc4f643c75@www.molletvalles.cat
CATEGORIES:Ball
CREATED;VALUE=DATE-TIME:20240429T113843Z
LAST-MODIFIED;VALUE=DATE-TIME:20240521T095636Z
URL:https://www.molletvalles.cat/ca/actualitat/agenda/ball-de-la-gent-gran
 -79
END:VEVENT
BEGIN:VTIMEZONE
TZID:Europe/Madrid
X-LIC-LOCATION:Europe/Madrid
BEGIN:DAYLIGHT
DTSTART;VALUE=DATE-TIME:20240331T030000
TZNAME:CEST
TZOFFSETFROM:+0100
TZOFFSETTO:+0200
END:DAYLIGHT
END:VTIMEZONE
END:VCALENDAR
