BEGIN:VCALENDAR
VERSION:2.0
PRODID:-//Plone.org//NONSGML plone.app.event//EN
X-WR-TIMEZONE:Europe/Madrid
BEGIN:VEVENT
SUMMARY:Ballada de salsa i bachata
DTSTART;TZID=Europe/Madrid;VALUE=DATE-TIME:20240121T180000
DTEND;TZID=Europe/Madrid;VALUE=DATE-TIME:20240121T190000
DTSTAMP;VALUE=DATE-TIME:20260423T153201Z
UID:65c04b51963b4be1b1a9ca10bfb7f63e@www.molletvalles.cat
CATEGORIES:Ball
CREATED;VALUE=DATE-TIME:20240115T130601Z
DESCRIPTION:FESTA MAJOR D'HIVERN
LAST-MODIFIED;VALUE=DATE-TIME:20240115T130627Z
URL:https://www.molletvalles.cat/ca/actualitat/agenda/ballada-de-salsa-i-b
 achata-1
END:VEVENT
BEGIN:VTIMEZONE
TZID:Europe/Madrid
X-LIC-LOCATION:Europe/Madrid
BEGIN:STANDARD
DTSTART;VALUE=DATE-TIME:20231029T020000
TZNAME:CET
TZOFFSETFROM:+0200
TZOFFSETTO:+0100
END:STANDARD
END:VTIMEZONE
END:VCALENDAR
