BEGIN:VCALENDAR
VERSION:2.0
PRODID:-//Plone.org//NONSGML plone.app.event//EN
X-WR-TIMEZONE:Europe/Madrid
BEGIN:VEVENT
SUMMARY:Ballada Solidària - La Marató de TV3-
DTSTART;VALUE=DATE:20241201
DTEND;VALUE=DATE:20241202
DTSTAMP;VALUE=DATE-TIME:20260421T135635Z
UID:27edd02e091c4a71b7a3fed6f18d13ed@www.molletvalles.cat
CATEGORIES:Ball
CREATED;VALUE=DATE-TIME:20241107T094339Z
LAST-MODIFIED;VALUE=DATE-TIME:20241108T091238Z
URL:https://www.molletvalles.cat/ca/actualitat/agenda/ballada-solidaria-pe
 r-la-marato-de-tv3-1
END:VEVENT
END:VCALENDAR
