BEGIN:VCALENDAR
VERSION:2.0
PRODID:-//Plone.org//NONSGML plone.app.event//EN
X-WR-TIMEZONE:Europe/Madrid
BEGIN:VEVENT
SUMMARY:Brain Film Fest
DTSTART;TZID=Europe/Madrid;VALUE=DATE-TIME:20260318T090000
DTEND;TZID=Europe/Madrid;VALUE=DATE-TIME:20260318T100000
DTSTAMP;VALUE=DATE-TIME:20260421T051139Z
UID:27e80597044a490489c4488ba045c653@www.molletvalles.cat
CATEGORIES:Actes diversos
CREATED;VALUE=DATE-TIME:20260306T082954Z
LAST-MODIFIED;VALUE=DATE-TIME:20260306T083107Z
LOCATION:Auditori Campus Fundació Sanitària (matí) i El Lledoner (tarda
 )
URL:https://www.molletvalles.cat/ca/actualitat/agenda/brain-film-fest
END:VEVENT
BEGIN:VTIMEZONE
TZID:Europe/Madrid
X-LIC-LOCATION:Europe/Madrid
BEGIN:STANDARD
DTSTART;VALUE=DATE-TIME:20251026T020000
TZNAME:CET
TZOFFSETFROM:+0200
TZOFFSETTO:+0100
END:STANDARD
END:VTIMEZONE
END:VCALENDAR
