BEGIN:VCALENDAR
VERSION:2.0
PRODID:-//Plone.org//NONSGML plone.app.event//EN
X-WR-TIMEZONE:Europe/Madrid
BEGIN:VEVENT
SUMMARY:Caminada Dia Mundial de la fibromiàlgia i a continuació Lectura 
 del Manifest
DTSTART;VALUE=DATE:20260512
DTEND;VALUE=DATE:20260513
DTSTAMP;VALUE=DATE-TIME:20260423T192048Z
UID:34ebf20bc33d43f6bad013e969a6b7de@www.molletvalles.cat
CATEGORIES:Actes diversos
CREATED;VALUE=DATE-TIME:20260423T120133Z
LAST-MODIFIED;VALUE=DATE-TIME:20260423T120743Z
LOCATION:Sortida: Des de l'Hospital de Mollet\,  Ronda de Pinetons Parc de
 ls Colors\, Rambla Nova\, Av. Burgos i Plaça Major
URL:https://www.molletvalles.cat/ca/actualitat/agenda/caminada-dia-mundial
 -de-la-fibromialgia-i-a-continuacio-lectura-del-manifest
END:VEVENT
END:VCALENDAR
