BEGIN:VCALENDAR
VERSION:2.0
PRODID:-//Plone.org//NONSGML plone.app.event//EN
X-WR-TIMEZONE:Europe/Madrid
BEGIN:VEVENT
SUMMARY:10è aniversari  Cap Infant Sense Conte: Es llegirà el conte: "So
 pa de Petons"\, a càrrec de l'autor Toni Argent
DTSTART;TZID=Europe/Madrid;VALUE=DATE-TIME:20240509T150000
DTEND;TZID=Europe/Madrid;VALUE=DATE-TIME:20240509T160000
DTSTAMP;VALUE=DATE-TIME:20260419T144657Z
UID:729532b38ce24cc09c447fe022b20805@www.molletvalles.cat
CATEGORIES:Ínfantil
CREATED;VALUE=DATE-TIME:20240503T090707Z
LAST-MODIFIED;VALUE=DATE-TIME:20240507T092550Z
LOCATION:Jardi de la Biblioteca de Can Mulà-Jordi Solé Tura
URL:https://www.molletvalles.cat/ca/actualitat/agenda/cap-infant-sense-con
 te-es-llegira-el-conte-sopa-de-petons-a-carrec-de-lautor-toni-argent
END:VEVENT
BEGIN:VTIMEZONE
TZID:Europe/Madrid
X-LIC-LOCATION:Europe/Madrid
BEGIN:DAYLIGHT
DTSTART;VALUE=DATE-TIME:20240331T030000
TZNAME:CEST
TZOFFSETFROM:+0100
TZOFFSETTO:+0200
END:DAYLIGHT
END:VTIMEZONE
END:VCALENDAR
