BEGIN:VCALENDAR
VERSION:2.0
PRODID:-//Plone.org//NONSGML plone.app.event//EN
X-WR-TIMEZONE:Europe/Madrid
BEGIN:VEVENT
SUMMARY:Capta de Sang
DTSTART;VALUE=DATE:20240816
DTEND;VALUE=DATE:20240817
DTSTAMP;VALUE=DATE-TIME:20260419T164159Z
UID:6148bc5c9b244fbfb5172e3d7520abc5@www.molletvalles.cat
CATEGORIES:Actes diversos
CREATED;VALUE=DATE-TIME:20240724T083209Z
DESCRIPTION:FESTA MAJOR 2024
LAST-MODIFIED;VALUE=DATE-TIME:20240724T084755Z
URL:https://www.molletvalles.cat/ca/actualitat/agenda/capta-de-sang-4
END:VEVENT
END:VCALENDAR
