BEGIN:VCALENDAR
VERSION:2.0
PRODID:-//Plone.org//NONSGML plone.app.event//EN
X-WR-TIMEZONE:Europe/Madrid
BEGIN:VEVENT
SUMMARY:Cat’s painting: Taller de pintura primaveral
DTSTART;TZID=Europe/Madrid;VALUE=DATE-TIME:20250322T120000
DTEND;TZID=Europe/Madrid;VALUE=DATE-TIME:20250322T130000
DTSTAMP;VALUE=DATE-TIME:20260421T140153Z
UID:2f5f6caf42a941c1b50ec19016e017f3@www.molletvalles.cat
CATEGORIES:Cursos i tallers,Infantil
CREATED;VALUE=DATE-TIME:20250318T081026Z
LAST-MODIFIED;VALUE=DATE-TIME:20250318T081106Z
LOCATION:Abacus Mollet
URL:https://www.molletvalles.cat/ca/actualitat/agenda/cat2019s-painting-ta
 ller-de-pintura-primaveral
END:VEVENT
BEGIN:VTIMEZONE
TZID:Europe/Madrid
X-LIC-LOCATION:Europe/Madrid
BEGIN:STANDARD
DTSTART;VALUE=DATE-TIME:20241027T020000
TZNAME:CET
TZOFFSETFROM:+0200
TZOFFSETTO:+0100
END:STANDARD
END:VTIMEZONE
END:VCALENDAR
