BEGIN:VCALENDAR
VERSION:2.0
PRODID:-//Plone.org//NONSGML plone.app.event//EN
X-WR-TIMEZONE:Europe/Madrid
BEGIN:VEVENT
SUMMARY:Cercavila amb els Castellers de Mollet del Vallès\, els capgrosso
 s de Gegants de Mollet i el Tòful i la Dinga\, capgrossos de la Fira d'Ar
 tesans
DTSTART;TZID=Europe/Madrid;VALUE=DATE-TIME:20250921T110000
DTEND;TZID=Europe/Madrid;VALUE=DATE-TIME:20250921T120000
DTSTAMP;VALUE=DATE-TIME:20260419T162449Z
UID:6b7f036b5f3947b1a69e8c94218428c0@www.molletvalles.cat
CATEGORIES:Fires i mercats
CREATED;VALUE=DATE-TIME:20250915T092425Z
DESCRIPTION:FIRA D'ARTESANS 2025
LAST-MODIFIED;VALUE=DATE-TIME:20250915T093117Z
LOCATION:Recorregut: De Plaça Catalunya a Plaça de l'Artesania
URL:https://www.molletvalles.cat/ca/actualitat/agenda/cercavila-amb-els-ca
 stellers-de-mollet-del-valles-els-capgrossos-de-gegants-de-mollet-i-el-tof
 ul-i-la-dinga-capgrossos-de-la-fira-dartesans-1
END:VEVENT
BEGIN:VTIMEZONE
TZID:Europe/Madrid
X-LIC-LOCATION:Europe/Madrid
BEGIN:DAYLIGHT
DTSTART;VALUE=DATE-TIME:20250330T030000
TZNAME:CEST
TZOFFSETFROM:+0100
TZOFFSETTO:+0200
END:DAYLIGHT
END:VTIMEZONE
END:VCALENDAR
