BEGIN:VCALENDAR
VERSION:2.0
PRODID:-//Plone.org//NONSGML plone.app.event//EN
X-WR-TIMEZONE:Europe/Madrid
BEGIN:VEVENT
SUMMARY:Cercavila amb els Castellers de Mollet del Vallès\, els capgrosso
 s de Gegants de Mollet i el Tòful i la Dinga\, capgrossos de la Fira d'Ar
 tesans
DTSTART;TZID=Europe/Madrid;VALUE=DATE-TIME:20230917T110000
DTEND;TZID=Europe/Madrid;VALUE=DATE-TIME:20230917T120000
DTSTAMP;VALUE=DATE-TIME:20260419T162352Z
UID:234d60da5860485b834837afbbb3a92d@www.molletvalles.cat
CATEGORIES:Fires
CREATED;VALUE=DATE-TIME:20230908T111706Z
DESCRIPTION:FIRA D'ARTESANS 2023
LAST-MODIFIED;VALUE=DATE-TIME:20230908T112339Z
LOCATION:Plaça Catalunya
URL:https://www.molletvalles.cat/ca/actualitat/agenda/cercavila-amb-els-ca
 stellers-de-mollet-del-valles-els-capgrossos-de-gegants-de-mollet-i-el-tof
 ul-i-la-dinga-capgrossos-de-la-fira-dartesans
END:VEVENT
BEGIN:VTIMEZONE
TZID:Europe/Madrid
X-LIC-LOCATION:Europe/Madrid
BEGIN:DAYLIGHT
DTSTART;VALUE=DATE-TIME:20230326T030000
TZNAME:CEST
TZOFFSETFROM:+0100
TZOFFSETTO:+0200
END:DAYLIGHT
END:VTIMEZONE
END:VCALENDAR
