BEGIN:VCALENDAR
VERSION:2.0
PRODID:-//Plone.org//NONSGML plone.app.event//EN
X-WR-TIMEZONE:Europe/Madrid
BEGIN:VEVENT
SUMMARY:Cercavila de la XXIX Trobada de Gegants
DTSTART;TZID=Europe/Madrid;VALUE=DATE-TIME:20240121T113000
DTEND;TZID=Europe/Madrid;VALUE=DATE-TIME:20240121T123000
DTSTAMP;VALUE=DATE-TIME:20260421T135752Z
UID:1333c861d4884e169181bb46c34d61b3@www.molletvalles.cat
CATEGORIES:Festes populars
CREATED;VALUE=DATE-TIME:20240115T123634Z
DESCRIPTION:FESTA MAJOR D'HIVERN
LAST-MODIFIED;VALUE=DATE-TIME:20240115T123725Z
LOCATION:Plaça de Prat de la Riba
URL:https://www.molletvalles.cat/ca/actualitat/agenda/cercavila-de-la-xxix
 -trobada-de-gegants
END:VEVENT
BEGIN:VTIMEZONE
TZID:Europe/Madrid
X-LIC-LOCATION:Europe/Madrid
BEGIN:STANDARD
DTSTART;VALUE=DATE-TIME:20231029T020000
TZNAME:CET
TZOFFSETFROM:+0200
TZOFFSETTO:+0100
END:STANDARD
END:VTIMEZONE
END:VCALENDAR
