BEGIN:VCALENDAR
VERSION:2.0
PRODID:-//Plone.org//NONSGML plone.app.event//EN
X-WR-TIMEZONE:Europe/Madrid
BEGIN:VEVENT
SUMMARY:Cercavila de les entitats: El Moll Fer\, La Santa Teca\, La Cuca M
 olla\, els Gegants de la Colla Gegantera\, Espiadimonis\, Castellers i Bal
 l de Diables
DTSTART;TZID=Europe/Madrid;VALUE=DATE-TIME:20240120T113000
DTEND;TZID=Europe/Madrid;VALUE=DATE-TIME:20240120T123000
DTSTAMP;VALUE=DATE-TIME:20260419T161949Z
UID:63de95df186d4dd2a5dd74d81969801c@www.molletvalles.cat
CATEGORIES:Festes populars
CREATED;VALUE=DATE-TIME:20240112T105521Z
DESCRIPTION:FESTA MAJOR D'HIVERN
LAST-MODIFIED;VALUE=DATE-TIME:20240112T123440Z
LOCATION:Rambla de Balmes - Institut Aiguaviva
URL:https://www.molletvalles.cat/ca/actualitat/agenda/cercavila-de-les-ent
 itats-el-moll-fer-la-santa-teca-la-cuca-molla-els-gegants-de-la-colla-gega
 ntera-espiadimonis-castellers-i-ball-de-diables
END:VEVENT
BEGIN:VTIMEZONE
TZID:Europe/Madrid
X-LIC-LOCATION:Europe/Madrid
BEGIN:STANDARD
DTSTART;VALUE=DATE-TIME:20231029T020000
TZNAME:CET
TZOFFSETFROM:+0200
TZOFFSETTO:+0100
END:STANDARD
END:VTIMEZONE
END:VCALENDAR
