BEGIN:VCALENDAR
VERSION:2.0
PRODID:-//Plone.org//NONSGML plone.app.event//EN
X-WR-TIMEZONE:Europe/Madrid
BEGIN:VEVENT
SUMMARY:Cicle de cinema fantàstic i de terror The Picture Show Cineforum:
  "1990 Los guerreros del Bronx" (1992)
DTSTART;TZID=Europe/Madrid;VALUE=DATE-TIME:20230428T214500
DTEND;TZID=Europe/Madrid;VALUE=DATE-TIME:20230428T224500
DTSTAMP;VALUE=DATE-TIME:20260419T161949Z
UID:425fbd9e693f43b49fcaa30f7c1922da@www.molletvalles.cat
CATEGORIES:Cinema
CREATED;VALUE=DATE-TIME:20230418T084832Z
LAST-MODIFIED;VALUE=DATE-TIME:20230418T085109Z
URL:https://www.molletvalles.cat/ca/actualitat/agenda/cicle-de-cinema-fant
 astic-i-de-terror-the-picture-show-cineforum-1990-los-guerreros-del-bronx-
 1992
END:VEVENT
BEGIN:VTIMEZONE
TZID:Europe/Madrid
X-LIC-LOCATION:Europe/Madrid
BEGIN:DAYLIGHT
DTSTART;VALUE=DATE-TIME:20230326T030000
TZNAME:CEST
TZOFFSETFROM:+0100
TZOFFSETTO:+0200
END:DAYLIGHT
END:VTIMEZONE
END:VCALENDAR
