BEGIN:VCALENDAR
VERSION:2.0
PRODID:-//Plone.org//NONSGML plone.app.event//EN
X-WR-TIMEZONE:Europe/Madrid
BEGIN:VEVENT
SUMMARY:Cinema: "Contratiempo" de Oriol Paulo (Espanya\, 2016)
DTSTART;TZID=Europe/Madrid;VALUE=DATE-TIME:20250615T180000
DTEND;TZID=Europe/Madrid;VALUE=DATE-TIME:20250615T203000
DTSTAMP;VALUE=DATE-TIME:20260421T140345Z
UID:a40c7245899245d4bbfca88d2eeeaf5b@www.molletvalles.cat
CATEGORIES:Cinema
CREATED;VALUE=DATE-TIME:20250129T103748Z
LAST-MODIFIED;VALUE=DATE-TIME:20250529T081408Z
URL:https://www.molletvalles.cat/ca/actualitat/agenda/cinema-contratiempo-
 de-oriol-paulo-espanya-2016
END:VEVENT
BEGIN:VTIMEZONE
TZID:Europe/Madrid
X-LIC-LOCATION:Europe/Madrid
BEGIN:DAYLIGHT
DTSTART;VALUE=DATE-TIME:20250330T030000
TZNAME:CEST
TZOFFSETFROM:+0100
TZOFFSETTO:+0200
END:DAYLIGHT
END:VTIMEZONE
END:VCALENDAR
