BEGIN:VCALENDAR
VERSION:2.0
PRODID:-//Plone.org//NONSGML plone.app.event//EN
X-WR-TIMEZONE:Europe/Madrid
BEGIN:VEVENT
SUMMARY:Club de lectura entre línees: "El gran dia de la senyoreta Pettig
 rew" de Winifred Watson
DTSTART;TZID=Europe/Madrid;VALUE=DATE-TIME:20240605T190000
DTEND;TZID=Europe/Madrid;VALUE=DATE-TIME:20240605T200000
DTSTAMP;VALUE=DATE-TIME:20260421T160447Z
UID:d401b53077b94509b03acb03411499a1@www.molletvalles.cat
CATEGORIES:Actes diversos
CREATED;VALUE=DATE-TIME:20240605T060358Z
LAST-MODIFIED;VALUE=DATE-TIME:20240605T090144Z
URL:https://www.molletvalles.cat/ca/actualitat/agenda/club-de-lectura-entr
 e-linees-el-gran-dia-de-la-senyoreta-pettigrew-de-winifred-watson
END:VEVENT
BEGIN:VTIMEZONE
TZID:Europe/Madrid
X-LIC-LOCATION:Europe/Madrid
BEGIN:DAYLIGHT
DTSTART;VALUE=DATE-TIME:20240331T030000
TZNAME:CEST
TZOFFSETFROM:+0100
TZOFFSETTO:+0200
END:DAYLIGHT
END:VTIMEZONE
END:VCALENDAR
