BEGIN:VCALENDAR
VERSION:2.0
PRODID:-//Plone.org//NONSGML plone.app.event//EN
X-WR-TIMEZONE:Europe/Madrid
BEGIN:VEVENT
SUMMARY:Club de Lectura Pla 9. Quin món aquest!: "Els nens són els reis"
  de Delphine de Vigan
DTSTART;TZID=Europe/Madrid;VALUE=DATE-TIME:20240116T190000
DTEND;TZID=Europe/Madrid;VALUE=DATE-TIME:20240116T200000
DTSTAMP;VALUE=DATE-TIME:20260425T122032Z
UID:07891ac46abb4e8a9ae614a4b03aadf8@www.molletvalles.cat
CATEGORIES:Xerrades
CREATED;VALUE=DATE-TIME:20240111T100759Z
LAST-MODIFIED;VALUE=DATE-TIME:20240111T100856Z
URL:https://www.molletvalles.cat/ca/actualitat/agenda/club-de-lectura-pla-
 9-cicle-quin-mon-aquest-els-nens-son-els-reis-de-delphine-de-vigan
END:VEVENT
BEGIN:VTIMEZONE
TZID:Europe/Madrid
X-LIC-LOCATION:Europe/Madrid
BEGIN:STANDARD
DTSTART;VALUE=DATE-TIME:20231029T020000
TZNAME:CET
TZOFFSETFROM:+0200
TZOFFSETTO:+0100
END:STANDARD
END:VTIMEZONE
END:VCALENDAR
