BEGIN:VCALENDAR
VERSION:2.0
PRODID:-//Plone.org//NONSGML plone.app.event//EN
X-WR-TIMEZONE:Europe/Madrid
BEGIN:VEVENT
SUMMARY:Club de lectura Pla 9: En el pot petit hi ha la bona literatura: "
 El túnel" d'Ernesto Sábato
DTSTART;TZID=Europe/Madrid;VALUE=DATE-TIME:20251021T190000
DTEND;TZID=Europe/Madrid;VALUE=DATE-TIME:20251021T200000
DTSTAMP;VALUE=DATE-TIME:20260419T162342Z
UID:fb32973b8ed146fb99a4a0856a7b7709@www.molletvalles.cat
CATEGORIES:Actes diversos
CREATED;VALUE=DATE-TIME:20250925T125752Z
LAST-MODIFIED;VALUE=DATE-TIME:20250926T073201Z
URL:https://www.molletvalles.cat/ca/actualitat/agenda/club-de-lectura-pla-
 9-en-el-pot-petit-hi-ha-la-bona-literatura-el-tunel-dernesto-sabato
END:VEVENT
BEGIN:VTIMEZONE
TZID:Europe/Madrid
X-LIC-LOCATION:Europe/Madrid
BEGIN:DAYLIGHT
DTSTART;VALUE=DATE-TIME:20250330T030000
TZNAME:CEST
TZOFFSETFROM:+0100
TZOFFSETTO:+0200
END:DAYLIGHT
END:VTIMEZONE
END:VCALENDAR
