BEGIN:VCALENDAR
VERSION:2.0
PRODID:-//Plone.org//NONSGML plone.app.event//EN
X-WR-TIMEZONE:Europe/Madrid
BEGIN:VEVENT
SUMMARY:Club de lectura Pla 9\, Quin món\, aquest!: La cita de Katharina 
 Volkmer.
DTSTART;TZID=Europe/Madrid;VALUE=DATE-TIME:20231121T190000
DTEND;TZID=Europe/Madrid;VALUE=DATE-TIME:20231121T200000
DTSTAMP;VALUE=DATE-TIME:20260425T121747Z
UID:38f7e5daf7d74f969811d477f582dd81@www.molletvalles.cat
CATEGORIES:Cultura
CREATED;VALUE=DATE-TIME:20231024T105501Z
LAST-MODIFIED;VALUE=DATE-TIME:20231024T120558Z
URL:https://www.molletvalles.cat/ca/actualitat/agenda/club-de-lectura-pla-
 9-quin-mon-aquest-la-cita-de-kataharina-volkmer
END:VEVENT
BEGIN:VTIMEZONE
TZID:Europe/Madrid
X-LIC-LOCATION:Europe/Madrid
BEGIN:STANDARD
DTSTART;VALUE=DATE-TIME:20231029T020000
TZNAME:CET
TZOFFSETFROM:+0200
TZOFFSETTO:+0100
END:STANDARD
END:VTIMEZONE
END:VCALENDAR
