BEGIN:VCALENDAR
VERSION:2.0
PRODID:-//Plone.org//NONSGML plone.app.event//EN
X-WR-TIMEZONE:Europe/Madrid
BEGIN:VEVENT
SUMMARY:Comunicat públic de les Colles de Morats i Torrats sobre el benef
 icis solidaris de l’activitat “Polseres Candela”
DTSTART;TZID=Europe/Madrid;VALUE=DATE-TIME:20230705T193000
DTEND;TZID=Europe/Madrid;VALUE=DATE-TIME:20230705T203000
DTSTAMP;VALUE=DATE-TIME:20260419T144657Z
UID:727497dfa2534fa795baf4c18ace5e9a@www.molletvalles.cat
CATEGORIES:Actes diversos
CREATED;VALUE=DATE-TIME:20230704T072743Z
LAST-MODIFIED;VALUE=DATE-TIME:20230704T072847Z
URL:https://www.molletvalles.cat/ca/actualitat/agenda/comunicat-public-de-
 les-colles-de-morats-i-torrats-sobre-el-beneficis-solidaris-de-l2019activi
 tat-201cpolseres-candela201d
END:VEVENT
BEGIN:VTIMEZONE
TZID:Europe/Madrid
X-LIC-LOCATION:Europe/Madrid
BEGIN:DAYLIGHT
DTSTART;VALUE=DATE-TIME:20230326T030000
TZNAME:CEST
TZOFFSETFROM:+0100
TZOFFSETTO:+0200
END:DAYLIGHT
END:VTIMEZONE
END:VCALENDAR
