BEGIN:VCALENDAR
VERSION:2.0
PRODID:-//Plone.org//NONSGML plone.app.event//EN
X-WR-TIMEZONE:Europe/Madrid
BEGIN:VEVENT
SUMMARY:Concert a la terrassa del Museu (1r passi): PAULA PESO
DTSTART;TZID=Europe/Madrid;VALUE=DATE-TIME:20230819T203000
DTEND;TZID=Europe/Madrid;VALUE=DATE-TIME:20230819T213000
DTSTAMP;VALUE=DATE-TIME:20260421T140139Z
UID:32c900e05d6c46ee80e078b1a4db010b@www.molletvalles.cat
CATEGORIES:Música
CREATED;VALUE=DATE-TIME:20230727T062254Z
DESCRIPTION:FESTA MAJOR 2023
LAST-MODIFIED;VALUE=DATE-TIME:20230802T105202Z
LOCATION:Terrassa del Museu Abelló
URL:https://www.molletvalles.cat/ca/actualitat/agenda/concert-a-la-terrass
 a-del-museu-1r-passi-memi-sillah-group
END:VEVENT
BEGIN:VTIMEZONE
TZID:Europe/Madrid
X-LIC-LOCATION:Europe/Madrid
BEGIN:DAYLIGHT
DTSTART;VALUE=DATE-TIME:20230326T030000
TZNAME:CEST
TZOFFSETFROM:+0100
TZOFFSETTO:+0200
END:DAYLIGHT
END:VTIMEZONE
END:VCALENDAR
