BEGIN:VCALENDAR
VERSION:2.0
PRODID:-//Plone.org//NONSGML plone.app.event//EN
X-WR-TIMEZONE:Europe/Madrid
BEGIN:VEVENT
SUMMARY:Concert de comiat de José Maria Aparicio
DTSTART;TZID=Europe/Madrid;VALUE=DATE-TIME:20240706T200000
DTEND;TZID=Europe/Madrid;VALUE=DATE-TIME:20240706T210000
DTSTAMP;VALUE=DATE-TIME:20260419T223040Z
UID:c72662a57d874d72bdd8b33264aa0003@www.molletvalles.cat
CATEGORIES:Música
CREATED;VALUE=DATE-TIME:20240619T121314Z
DESCRIPTION:REFRESC'ART 2024
LAST-MODIFIED;VALUE=DATE-TIME:20240703T070423Z
LOCATION:Parc de Les Pruneres
URL:https://www.molletvalles.cat/ca/actualitat/agenda/concert-amb-alumnes-
 i-exalumnes-de-la-jazz-band-de-lescola-municipal-de-musica-i-dansa
END:VEVENT
BEGIN:VTIMEZONE
TZID:Europe/Madrid
X-LIC-LOCATION:Europe/Madrid
BEGIN:DAYLIGHT
DTSTART;VALUE=DATE-TIME:20240331T030000
TZNAME:CEST
TZOFFSETFROM:+0100
TZOFFSETTO:+0200
END:DAYLIGHT
END:VTIMEZONE
END:VCALENDAR
