BEGIN:VCALENDAR
VERSION:2.0
PRODID:-//Plone.org//NONSGML plone.app.event//EN
X-WR-TIMEZONE:Europe/Madrid
BEGIN:VEVENT
SUMMARY:Concert Coral de la Festa Major d'Hivern amb la Coral El Clavell d
 e Mollet del Vallès
DTSTART;TZID=Europe/Madrid;VALUE=DATE-TIME:20230129T173000
DTEND;TZID=Europe/Madrid;VALUE=DATE-TIME:20230129T183000
DTSTAMP;VALUE=DATE-TIME:20260419T162009Z
UID:325ee5409a50414995b206ea0ee63847@www.molletvalles.cat
CATEGORIES:Música\, cinema i espectacles
CREATED;VALUE=DATE-TIME:20230123T082218Z
DESCRIPTION:FESTA MAJOR DE SANT VICENÇ
LAST-MODIFIED;VALUE=DATE-TIME:20230209T084810Z
URL:https://www.molletvalles.cat/ca/actualitat/agenda/concert-coral-de-la-
 festa-major-dhivern-amb-la-coral-el-clavell-de-mollet-del-valles
END:VEVENT
BEGIN:VTIMEZONE
TZID:Europe/Madrid
X-LIC-LOCATION:Europe/Madrid
BEGIN:STANDARD
DTSTART;VALUE=DATE-TIME:20221030T020000
TZNAME:CET
TZOFFSETFROM:+0200
TZOFFSETTO:+0100
END:STANDARD
END:VTIMEZONE
END:VCALENDAR
