BEGIN:VCALENDAR
VERSION:2.0
PRODID:-//Plone.org//NONSGML plone.app.event//EN
X-WR-TIMEZONE:Europe/Madrid
BEGIN:VEVENT
SUMMARY:Concert de Jazz a càrrec de Daahoud  Salim Quintet
DTSTART;TZID=Europe/Madrid;VALUE=DATE-TIME:20231006T210000
DTEND;TZID=Europe/Madrid;VALUE=DATE-TIME:20231006T220000
DTSTAMP;VALUE=DATE-TIME:20260421T140337Z
UID:2237df820a9340099f7b5ccac9410a7b@www.molletvalles.cat
CATEGORIES:Música
CREATED;VALUE=DATE-TIME:20230925T111650Z
DESCRIPTION:SONA MOLLET 2023
LAST-MODIFIED;VALUE=DATE-TIME:20230925T113954Z
URL:https://www.molletvalles.cat/ca/actualitat/agenda/concert-de-jazz-a-ca
 rrec-de-daahoud-salim-quintet
END:VEVENT
BEGIN:VTIMEZONE
TZID:Europe/Madrid
X-LIC-LOCATION:Europe/Madrid
BEGIN:DAYLIGHT
DTSTART;VALUE=DATE-TIME:20230326T030000
TZNAME:CEST
TZOFFSETFROM:+0100
TZOFFSETTO:+0200
END:DAYLIGHT
END:VTIMEZONE
END:VCALENDAR
