BEGIN:VCALENDAR
VERSION:2.0
PRODID:-//Plone.org//NONSGML plone.app.event//EN
X-WR-TIMEZONE:Europe/Madrid
BEGIN:VEVENT
SUMMARY:Conversa: Cos\, dansa i creació amb la ballarina molletana Núria
  Guiu i Esther Freixa
DTSTART;TZID=Europe/Madrid;VALUE=DATE-TIME:20230428T190000
DTEND;TZID=Europe/Madrid;VALUE=DATE-TIME:20230428T200000
DTSTAMP;VALUE=DATE-TIME:20260421T114348Z
UID:913fb250053447c3a852de4997f520a0@www.molletvalles.cat
CATEGORIES:Arts escèniques
CREATED;VALUE=DATE-TIME:20230425T063012Z
LAST-MODIFIED;VALUE=DATE-TIME:20230425T071259Z
URL:https://www.molletvalles.cat/ca/actualitat/agenda/conversa-cos-dansa-i
 -creacio-amb-la-ballarina-molletana-nuria-guiu-i-esther-freixa
END:VEVENT
BEGIN:VTIMEZONE
TZID:Europe/Madrid
X-LIC-LOCATION:Europe/Madrid
BEGIN:DAYLIGHT
DTSTART;VALUE=DATE-TIME:20230326T030000
TZNAME:CEST
TZOFFSETFROM:+0100
TZOFFSETTO:+0200
END:DAYLIGHT
END:VTIMEZONE
END:VCALENDAR
