BEGIN:VCALENDAR
VERSION:2.0
PRODID:-//Plone.org//NONSGML plone.app.event//EN
X-WR-TIMEZONE:Europe/Madrid
BEGIN:VEVENT
SUMMARY:Sessió informativa: Regularització extraordinària de persones m
 igrants 2026
DTSTART;TZID=Europe/Madrid;VALUE=DATE-TIME:20260504T153000
DTEND;TZID=Europe/Madrid;VALUE=DATE-TIME:20260504T173000
DTSTAMP;VALUE=DATE-TIME:20260423T172925Z
UID:e25de4d909404f8291ccf982b2d5de7c@www.molletvalles.cat
CATEGORIES:Actes diversos
CREATED;VALUE=DATE-TIME:20260423T090630Z
LAST-MODIFIED;VALUE=DATE-TIME:20260423T091837Z
URL:https://www.molletvalles.cat/ca/actualitat/agenda/copy2_of_sessio-info
 rmativa-regularitzacio-extraordinaria-de-persones-migrants-2026
END:VEVENT
BEGIN:VTIMEZONE
TZID:Europe/Madrid
X-LIC-LOCATION:Europe/Madrid
BEGIN:DAYLIGHT
DTSTART;VALUE=DATE-TIME:20260329T030000
TZNAME:CEST
TZOFFSETFROM:+0100
TZOFFSETTO:+0200
END:DAYLIGHT
END:VTIMEZONE
END:VCALENDAR
