BEGIN:VCALENDAR
VERSION:2.0
PRODID:-//Plone.org//NONSGML plone.app.event//EN
X-WR-TIMEZONE:Europe/Madrid
BEGIN:VEVENT
SUMMARY:Mercadillo de Segona Mà
DTSTART;TZID=Europe/Madrid;VALUE=DATE-TIME:20260131T090000
DTEND;TZID=Europe/Madrid;VALUE=DATE-TIME:20260131T140000
DTSTAMP;VALUE=DATE-TIME:20260423T120456Z
UID:697e37021fef4bd6844f50714012886c@www.molletvalles.cat
CATEGORIES:Fires i mercats
CREATED;VALUE=DATE-TIME:20240903T094728Z
LAST-MODIFIED;VALUE=DATE-TIME:20260119T112714Z
LOCATION:Rambla de la Unió
URL:https://www.molletvalles.cat/ca/actualitat/agenda/copy53_of_mercadillo
 -de-segona-ma-16
END:VEVENT
BEGIN:VTIMEZONE
TZID:Europe/Madrid
X-LIC-LOCATION:Europe/Madrid
BEGIN:STANDARD
DTSTART;VALUE=DATE-TIME:20251026T020000
TZNAME:CET
TZOFFSETFROM:+0200
TZOFFSETTO:+0100
END:STANDARD
END:VTIMEZONE
END:VCALENDAR
