BEGIN:VCALENDAR
VERSION:2.0
PRODID:-//Plone.org//NONSGML plone.app.event//EN
X-WR-TIMEZONE:Europe/Madrid
BEGIN:VEVENT
SUMMARY:Formació "Aprenem a buscar Ajuts i subvencions per empreses i emp
 renedors"
DTSTART;TZID=Europe/Madrid;VALUE=DATE-TIME:20260506T100000
DTEND;TZID=Europe/Madrid;VALUE=DATE-TIME:20260506T120000
DTSTAMP;VALUE=DATE-TIME:20260422T225853Z
UID:ecab0a68275f456586c105e1fce96939@www.molletvalles.cat
CATEGORIES:Cursos i tallers
CREATED;VALUE=DATE-TIME:20260107T084108Z
LAST-MODIFIED;VALUE=DATE-TIME:20260422T094204Z
LOCATION:Mollet Hub (Av. de Jaume I\, 32)
URL:https://www.molletvalles.cat/ca/actualitat/agenda/copy66_of_taller-int
 el-ligencia-artificial-per-a-emprenedors-com-comencar-sense-ser-expert
END:VEVENT
BEGIN:VTIMEZONE
TZID:Europe/Madrid
X-LIC-LOCATION:Europe/Madrid
BEGIN:DAYLIGHT
DTSTART;VALUE=DATE-TIME:20260329T030000
TZNAME:CEST
TZOFFSETFROM:+0100
TZOFFSETTO:+0200
END:DAYLIGHT
END:VTIMEZONE
END:VCALENDAR
