BEGIN:VCALENDAR
VERSION:2.0
PRODID:-//Plone.org//NONSGML plone.app.event//EN
X-WR-TIMEZONE:Europe/Madrid
BEGIN:VEVENT
SUMMARY:Ball de Saló
DTSTART;TZID=Europe/Madrid;VALUE=DATE-TIME:20260307T220000
DTEND;TZID=Europe/Madrid;VALUE=DATE-TIME:20260307T230000
DTSTAMP;VALUE=DATE-TIME:20260421T052443Z
UID:c45f909d8bd040afb65c9b4623fc9703@www.molletvalles.cat
CATEGORIES:Ball
CREATED;VALUE=DATE-TIME:20260210T090319Z
LAST-MODIFIED;VALUE=DATE-TIME:20260306T092634Z
URL:https://www.molletvalles.cat/ca/actualitat/agenda/copy_of_ball-de-salo
 -12
END:VEVENT
BEGIN:VTIMEZONE
TZID:Europe/Madrid
X-LIC-LOCATION:Europe/Madrid
BEGIN:STANDARD
DTSTART;VALUE=DATE-TIME:20251026T020000
TZNAME:CET
TZOFFSETFROM:+0200
TZOFFSETTO:+0100
END:STANDARD
END:VTIMEZONE
END:VCALENDAR
