BEGIN:VCALENDAR
VERSION:2.0
PRODID:-//Plone.org//NONSGML plone.app.event//EN
X-WR-TIMEZONE:Europe/Madrid
BEGIN:VEVENT
SUMMARY:Cicle d'exposicions Artistes Anònims. Pepita Egea: "Benvingut Nad
 al"
DTSTART;VALUE=DATE:20241209
DTEND;VALUE=DATE:20241221
DTSTAMP;VALUE=DATE-TIME:20260425T140810Z
UID:6e4c573fe94442af88298b3fb3da85c5@www.molletvalles.cat
CATEGORIES:Exposicions
CREATED;VALUE=DATE-TIME:20241007T073205Z
LAST-MODIFIED;VALUE=DATE-TIME:20241114T082009Z
URL:https://www.molletvalles.cat/ca/actualitat/agenda/copy_of_cicle-dexpos
 icions-artistes-anonims-encarna-garcia-soc-dona-i
END:VEVENT
END:VCALENDAR
