BEGIN:VCALENDAR
VERSION:2.0
PRODID:-//Plone.org//NONSGML plone.app.event//EN
X-WR-TIMEZONE:Europe/Madrid
BEGIN:VEVENT
SUMMARY:Curs de Ressuscitació Cardiopulmonar
DTSTART;TZID=Europe/Madrid;VALUE=DATE-TIME:20251112T163000
DTEND;TZID=Europe/Madrid;VALUE=DATE-TIME:20251112T193000
DTSTAMP;VALUE=DATE-TIME:20260423T122541Z
UID:f0341548344446caa49880a26c994dfe@www.molletvalles.cat
CATEGORIES:Cursos
CREATED;VALUE=DATE-TIME:20240617T101427Z
LAST-MODIFIED;VALUE=DATE-TIME:20251028T092519Z
URL:https://www.molletvalles.cat/ca/actualitat/agenda/copy_of_cursos-de-re
 ssuscitacio-cardiopulmonar
END:VEVENT
BEGIN:VTIMEZONE
TZID:Europe/Madrid
X-LIC-LOCATION:Europe/Madrid
BEGIN:STANDARD
DTSTART;VALUE=DATE-TIME:20251026T020000
TZNAME:CET
TZOFFSETFROM:+0200
TZOFFSETTO:+0100
END:STANDARD
END:VTIMEZONE
END:VCALENDAR
