BEGIN:VCALENDAR
VERSION:2.0
PRODID:-//Plone.org//NONSGML plone.app.event//EN
X-WR-TIMEZONE:Europe/Madrid
BEGIN:VEVENT
SUMMARY:Festa de l'Arbre i la Biodiversitat
DTSTART;TZID=Europe/Madrid;VALUE=DATE-TIME:20260315T110000
DTEND;TZID=Europe/Madrid;VALUE=DATE-TIME:20260315T120000
DTSTAMP;VALUE=DATE-TIME:20260420T064144Z
UID:021dc03367a044eda350914b60c8b96f@www.molletvalles.cat
CATEGORIES:Festes populars
CREATED;VALUE=DATE-TIME:20250313T133328Z
LAST-MODIFIED;VALUE=DATE-TIME:20260305T062633Z
LOCATION:Parc dels Pinetons
URL:https://www.molletvalles.cat/ca/actualitat/agenda/copy_of_festa-de-lar
 bre-i-la-biodiversitat-1
END:VEVENT
BEGIN:VTIMEZONE
TZID:Europe/Madrid
X-LIC-LOCATION:Europe/Madrid
BEGIN:STANDARD
DTSTART;VALUE=DATE-TIME:20251026T020000
TZNAME:CET
TZOFFSETFROM:+0200
TZOFFSETTO:+0100
END:STANDARD
END:VTIMEZONE
END:VCALENDAR
