BEGIN:VCALENDAR
VERSION:2.0
PRODID:-//Plone.org//NONSGML plone.app.event//EN
X-WR-TIMEZONE:Europe/Madrid
BEGIN:VEVENT
SUMMARY:L'alcaldessa amb tu! Als barris
DTSTART;VALUE=DATE:20260311
DTEND;VALUE=DATE:20260312
DTSTAMP;VALUE=DATE-TIME:20260420T064112Z
UID:9f6b54843b474584b1327ed33389b58d@www.molletvalles.cat
CATEGORIES:Actes de ciutat
CREATED;VALUE=DATE-TIME:20260211T114430Z
LAST-MODIFIED;VALUE=DATE-TIME:20260305T064741Z
LOCATION:Plaça Cinco Pinos i av. Caldes (cantonada c. Ferrocarril)
URL:https://www.molletvalles.cat/ca/actualitat/agenda/copy_of_lalcaldessa-
 amb-tu-als-barris-1
END:VEVENT
END:VCALENDAR
