BEGIN:VCALENDAR
VERSION:2.0
PRODID:-//Plone.org//NONSGML plone.app.event//EN
X-WR-TIMEZONE:Europe/Madrid
BEGIN:VEVENT
SUMMARY:Mostra de Dansa de l'Escola de dansa Assaig
DTSTART;TZID=Europe/Madrid;VALUE=DATE-TIME:20260425T100000
DTEND;TZID=Europe/Madrid;VALUE=DATE-TIME:20260425T110000
DTSTAMP;VALUE=DATE-TIME:20260425T042758Z
UID:099b2a8f87d8408e93f1dcde04f57d39@www.molletvalles.cat
CATEGORIES:Arts escèniques
CREATED;VALUE=DATE-TIME:20230502T073341Z
LAST-MODIFIED;VALUE=DATE-TIME:20260424T092842Z
LOCATION:Parc de Les Pruneres
URL:https://www.molletvalles.cat/ca/actualitat/agenda/copy_of_mostra-de-da
 nsa-de-lescola-de-dansa-assaig
END:VEVENT
BEGIN:VTIMEZONE
TZID:Europe/Madrid
X-LIC-LOCATION:Europe/Madrid
BEGIN:DAYLIGHT
DTSTART;VALUE=DATE-TIME:20260329T030000
TZNAME:CEST
TZOFFSETFROM:+0100
TZOFFSETTO:+0200
END:DAYLIGHT
END:VTIMEZONE
END:VCALENDAR
